BEGIN:VCALENDAR
PRODID;X-RICAL-TZSOURCE=TZINFO:-//com.denhaven2/NONSGML ri_cal gem//EN
CALSCALE:GREGORIAN
VERSION:2.0
BEGIN:VEVENT
DTEND;VALUE=DATE-TIME:20260425T125000Z
DTSTART;VALUE=DATE-TIME:20260425T120000Z
DTSTAMP;VALUE=DATE-TIME:20260415T115441Z
UID:6ddf583a-cda1-47d8-9377-31715bb69572@localhost
URL:/programm/2026/tazlab2026/de/events/1824.html
SUMMARY:Männer: Abschießen oder erziehen? 
ORGANIZER:tazlab2026
LOCATION:tazlab2026 - Gelbe Bühne | vor Ort und im Stream | im Park | in 
 der Mediathek
END:VEVENT
END:VCALENDAR
